BEGIN:VCALENDAR
VERSION:2.0
PRODID:-//Programa de Detecció de Càncer de Còlon i Recte de Barcelona - ECPv4.6.8//NONSGML v1.0//EN
CALSCALE:GREGORIAN
METHOD:PUBLISH
X-WR-CALNAME:Programa de Detecció de Càncer de Còlon i Recte de Barcelona
X-ORIGINAL-URL:https://www.prevenciocolonbcn.org/ca
X-WR-CALDESC:Events for Programa de Detecció de Càncer de Còlon i Recte de Barcelona
BEGIN:VEVENT
DTSTART;VALUE=DATE:20171102
DTEND;VALUE=DATE:20180403
DTSTAMP:20260422T142559
CREATED:20170706T073213Z
LAST-MODIFIED:20171214T135438Z
UID:1014-1509580800-1522713599@www.prevenciocolonbcn.org
SUMMARY:Inici del Programa a Raval Nord (4a ronda)
DESCRIPTION:Aquest mes de novembre s’inicia l’activitat del Programa a Raval Nord (1E). \nDes de principis del mes de novembre de 2017 i fins a principis d’abril de 2018 es convida a tots els homes i dones de 50 a 69 anys que viuen en aquesta zona a participar en el Programa. \nS’enviarà una carta d’invitació juntament amb el llistat de farmàcies adherides al Programa en aquesta àrea (s’adjunta llistat)\, per anar a recollir a la farmàcia més propera el kit i les instruccions. La prova es realitza a casa de forma còmoda i senzilla i caldrà retornar-la a la farmàcia. \nUna vegada analitzades les mostres es comunicaran els resultats mitjançant carta o trucada telefònica. \nPer la vostra salut\, participeu-hi! \n\nLlistat de les farmàcies del Raval Nord\n\n
URL:https://www.prevenciocolonbcn.org/ca/event/cap-lluis-saye/
END:VEVENT
END:VCALENDAR