BEGIN:VCALENDAR
VERSION:2.0
PRODID:-//Programa de Detecció de Càncer de Còlon i Recte de Barcelona - ECPv4.6.8//NONSGML v1.0//EN
CALSCALE:GREGORIAN
METHOD:PUBLISH
X-WR-CALNAME:Programa de Detecció de Càncer de Còlon i Recte de Barcelona
X-ORIGINAL-URL:https://www.prevenciocolonbcn.org/ca
X-WR-CALDESC:Events for Programa de Detecció de Càncer de Còlon i Recte de Barcelona
BEGIN:VEVENT
DTSTART;VALUE=DATE:20170914
DTEND;VALUE=DATE:20180423
DTSTAMP:20260422T125822
CREATED:20170706T072509Z
LAST-MODIFIED:20171214T132604Z
UID:1010-1505347200-1524441599@www.prevenciocolonbcn.org
SUMMARY:Inici del Programa a La Salut (1a ronda)
DESCRIPTION:Aquest mes de novembre s’inicia l’activitat del Programa a La Salut (6E). \nDes de principis del mes de novembre de 2017 i fins a mitjans d’abril de 2018 es convida a tots els homes i dones de 50 a 69 anys que viuen en aquesta zona a participar en el Programa. \nS’enviarà una carta d’invitació juntament amb el llistat de farmàcies adherides al Programa en aquesta àrea (s’adjunta llistat)\, per anar a recollir a la farmàcia més propera el kit i les instruccions. La prova es realitza a casa de forma còmoda i senzilla i caldrà retornar-la a la farmàcia. \nUna vegada analitzades les mostres es comunicaran els resultats mitjançant carta o trucada telefònica. \nPer la vostra salut\, participeu-hi! \n\nLlistat de farmàcies de La Salut\n\n
URL:https://www.prevenciocolonbcn.org/ca/event/cap-larrard-pamem/
END:VEVENT
END:VCALENDAR